BEGIN:VCALENDAR
VERSION:2.0
PRODID:-//Gone to the Dogs Rescue - ECPv6.15.20//NONSGML v1.0//EN
CALSCALE:GREGORIAN
METHOD:PUBLISH
X-WR-CALNAME:Gone to the Dogs Rescue
X-ORIGINAL-URL:https://gonetothedogsrescue.org
X-WR-CALDESC:Events for Gone to the Dogs Rescue
REFRESH-INTERVAL;VALUE=DURATION:PT1H
X-Robots-Tag:noindex
X-PUBLISHED-TTL:PT1H
BEGIN:VTIMEZONE
TZID:America/Los_Angeles
BEGIN:DAYLIGHT
TZOFFSETFROM:-0800
TZOFFSETTO:-0700
TZNAME:PDT
DTSTART:20250309T100000
END:DAYLIGHT
BEGIN:STANDARD
TZOFFSETFROM:-0700
TZOFFSETTO:-0800
TZNAME:PST
DTSTART:20251102T090000
END:STANDARD
BEGIN:DAYLIGHT
TZOFFSETFROM:-0800
TZOFFSETTO:-0700
TZNAME:PDT
DTSTART:20260308T100000
END:DAYLIGHT
BEGIN:STANDARD
TZOFFSETFROM:-0700
TZOFFSETTO:-0800
TZNAME:PST
DTSTART:20261101T090000
END:STANDARD
BEGIN:DAYLIGHT
TZOFFSETFROM:-0800
TZOFFSETTO:-0700
TZNAME:PDT
DTSTART:20270314T100000
END:DAYLIGHT
BEGIN:STANDARD
TZOFFSETFROM:-0700
TZOFFSETTO:-0800
TZNAME:PST
DTSTART:20271107T090000
END:STANDARD
END:VTIMEZONE
BEGIN:VEVENT
DTSTART;TZID=America/Los_Angeles:20260418T110000
DTEND;TZID=America/Los_Angeles:20260418T150000
DTSTAMP:20260422T064937
CREATED:20260318T185056Z
LAST-MODIFIED:20260318T185056Z
UID:573-1776510000-1776524400@gonetothedogsrescue.org
SUMMARY:Dog Day at Wolff Vineyards April 18\, 2026
DESCRIPTION:Join us for a fun guided pack walk and tour through the beautiful property at Wolff Vineyards in Edna Valley\, San Luis Obispo CA on Saturday 4/18/2026 starting at 11AM. Bring your dog or borrow one of our foster dogs who would love to get some exercise with you!  Meet our adoptable dogs and have some wine on a beautiful day.
URL:https://gonetothedogsrescue.org/event/dog-day-at-wolff-vineyards-april-18-2026/
LOCATION:Wolff Vineyards\, 6238 Orcutt Rd\, San Luis Obispo\, CA\, 93401\, United States
ATTACH;FMTTYPE=image/png:https://gonetothedogsrescue.org/wp-content/uploads/2026/03/Dog-Day-Wolff-2026-1.png
END:VEVENT
END:VCALENDAR